BEGIN:VCALENDAR
VERSION:2.0
PRODID:-//O-CEI - ECPv6.15.11//NONSGML v1.0//EN
CALSCALE:GREGORIAN
METHOD:PUBLISH
X-WR-CALNAME:O-CEI
X-ORIGINAL-URL:https://o-cei.eu
X-WR-CALDESC:Events for O-CEI
REFRESH-INTERVAL;VALUE=DURATION:PT1H
X-Robots-Tag:noindex
X-PUBLISHED-TTL:PT1H
BEGIN:VTIMEZONE
TZID:Europe/Zurich
BEGIN:DAYLIGHT
TZOFFSETFROM:+0100
TZOFFSETTO:+0200
TZNAME:CEST
DTSTART:20240331T010000
END:DAYLIGHT
BEGIN:STANDARD
TZOFFSETFROM:+0200
TZOFFSETTO:+0100
TZNAME:CET
DTSTART:20241027T010000
END:STANDARD
BEGIN:DAYLIGHT
TZOFFSETFROM:+0100
TZOFFSETTO:+0200
TZNAME:CEST
DTSTART:20250330T010000
END:DAYLIGHT
BEGIN:STANDARD
TZOFFSETFROM:+0200
TZOFFSETTO:+0100
TZNAME:CET
DTSTART:20251026T010000
END:STANDARD
BEGIN:DAYLIGHT
TZOFFSETFROM:+0100
TZOFFSETTO:+0200
TZNAME:CEST
DTSTART:20260329T010000
END:DAYLIGHT
BEGIN:STANDARD
TZOFFSETFROM:+0200
TZOFFSETTO:+0100
TZNAME:CET
DTSTART:20261025T010000
END:STANDARD
END:VTIMEZONE
BEGIN:VEVENT
DTSTART;TZID=Europe/Zurich:20250924T140000
DTEND;TZID=Europe/Zurich:20250924T183000
DTSTAMP:20260421T154202
CREATED:20250918T122750Z
LAST-MODIFIED:20250918T122824Z
UID:3813-1758722400-1758738600@o-cei.eu
SUMMARY:Projects Exchanges Dissemination Event
DESCRIPTION:Trialog will continue its “tour de force” in Madrid through the coordination of the Projects Exchanges Dissemination Event. Moderated by Antonio Kung\, this session brings together several Horizon projects\, including O-CEI\, CEI-Sphere\, COP-PILOT\, Hedge-IoT\, TwinEU\, and LICORICE\, to foster cross-project collaboration. The discussion will focus on two key topics: \n\nSynergies around the hourglass model: exploring the usage and dissemination of this model across various EU-funded projects.\nSynchronization of semantic interoperability activities: aligning efforts to ensure seamless data exchange and communication among projects.\n\nEvent website: https://www.eclipse.org/events/2025/oscd/
URL:https://o-cei.eu/event/projects-exchanges-dissemination-event/
ATTACH;FMTTYPE=image/png:https://o-cei.eu/wp-content/uploads/2025/09/eclipse-foundation-grey-orange-2-scaled.png
END:VEVENT
END:VCALENDAR